BEGIN:VCALENDAR
VERSION:2.0
PRODID:-//Musikverein Lauf e.V. - ECPv6.15.17.1//NONSGML v1.0//EN
CALSCALE:GREGORIAN
METHOD:PUBLISH
X-WR-CALNAME:Musikverein Lauf e.V.
X-ORIGINAL-URL:https://musikverein-lauf.de
X-WR-CALDESC:Veranstaltungen für Musikverein Lauf e.V.
REFRESH-INTERVAL;VALUE=DURATION:PT1H
X-Robots-Tag:noindex
X-PUBLISHED-TTL:PT1H
BEGIN:VTIMEZONE
TZID:Europe/Berlin
BEGIN:DAYLIGHT
TZOFFSETFROM:+0100
TZOFFSETTO:+0200
TZNAME:CEST
DTSTART:20250330T010000
END:DAYLIGHT
BEGIN:STANDARD
TZOFFSETFROM:+0200
TZOFFSETTO:+0100
TZNAME:CET
DTSTART:20251026T010000
END:STANDARD
BEGIN:DAYLIGHT
TZOFFSETFROM:+0100
TZOFFSETTO:+0200
TZNAME:CEST
DTSTART:20260329T010000
END:DAYLIGHT
BEGIN:STANDARD
TZOFFSETFROM:+0200
TZOFFSETTO:+0100
TZNAME:CET
DTSTART:20261025T010000
END:STANDARD
BEGIN:DAYLIGHT
TZOFFSETFROM:+0100
TZOFFSETTO:+0200
TZNAME:CEST
DTSTART:20270328T010000
END:DAYLIGHT
BEGIN:STANDARD
TZOFFSETFROM:+0200
TZOFFSETTO:+0100
TZNAME:CET
DTSTART:20271031T010000
END:STANDARD
END:VTIMEZONE
BEGIN:VEVENT
DTSTART;TZID=Europe/Berlin:20260510T103000
DTEND;TZID=Europe/Berlin:20260510T113000
DTSTAMP:20260421T173251
CREATED:20260311T203701Z
LAST-MODIFIED:20260311T203701Z
UID:490-1778409000-1778412600@musikverein-lauf.de
SUMMARY:Muttertagsmatinée
DESCRIPTION:
URL:https://musikverein-lauf.de/event/muttertagsmatinee/
LOCATION:Grundschule Neunkirchen\, Schulstraße 22\, Neunkirchen am Sand\, 91233\, Germany
END:VEVENT
BEGIN:VEVENT
DTSTART;TZID=Europe/Berlin:20260517T130000
DTEND;TZID=Europe/Berlin:20260517T150000
DTSTAMP:20260421T173251
CREATED:20260311T203446Z
LAST-MODIFIED:20260311T203446Z
UID:488-1779022800-1779030000@musikverein-lauf.de
SUMMARY:Festzug Feuerwehrfest Günthersbühl
DESCRIPTION:
URL:https://musikverein-lauf.de/event/festzug-feuerwehrfest-guenthersbuehl/
END:VEVENT
BEGIN:VEVENT
DTSTART;TZID=Europe/Berlin:20260627T150000
DTEND;TZID=Europe/Berlin:20260627T180000
DTSTAMP:20260421T173251
CREATED:20260311T203852Z
LAST-MODIFIED:20260311T203852Z
UID:492-1782572400-1782583200@musikverein-lauf.de
SUMMARY:Altstadtfest Lauf
DESCRIPTION:
URL:https://musikverein-lauf.de/event/altstadtfest-lauf/
LOCATION:Marktplatz Lauf a.d. Pegnitz\, Marktplatz\, Lauf a.d. Pegnitz\, 91207\, Germany
END:VEVENT
BEGIN:VEVENT
DTSTART;TZID=Europe/Berlin:20260703T000000
DTEND;TZID=Europe/Berlin:20260703T000000
DTSTAMP:20260421T173251
CREATED:20260311T204025Z
LAST-MODIFIED:20260311T204025Z
UID:495-1783036800-1783036800@musikverein-lauf.de
SUMMARY:Kunigundenkirchweih Hauptprobe
DESCRIPTION:
URL:https://musikverein-lauf.de/event/kunigundenkirchweih-hauptprobe/
LOCATION:Marktplatz Lauf a.d. Pegnitz\, Marktplatz\, Lauf a.d. Pegnitz\, 91207\, Germany
END:VEVENT
BEGIN:VEVENT
DTSTART;TZID=Europe/Berlin:20260705T130000
DTEND;TZID=Europe/Berlin:20260705T153000
DTSTAMP:20260421T173251
CREATED:20260311T204151Z
LAST-MODIFIED:20260311T204151Z
UID:497-1783256400-1783265400@musikverein-lauf.de
SUMMARY:Festzug Kunigundenkirchweih
DESCRIPTION:
URL:https://musikverein-lauf.de/event/festzug-kunigundenkirchweih/
LOCATION:Lauf a.d. Pegnitz\, Lauf a.d. Pegnitz\, 91207\, Germany
END:VEVENT
BEGIN:VEVENT
DTSTART;TZID=Europe/Berlin:20260706T130000
DTEND;TZID=Europe/Berlin:20260706T153000
DTSTAMP:20260421T173251
CREATED:20260311T204410Z
LAST-MODIFIED:20260311T204410Z
UID:500-1783342800-1783351800@musikverein-lauf.de
SUMMARY:Festzug Kunigundenkirchweih
DESCRIPTION:
URL:https://musikverein-lauf.de/event/festzug-kunigundenkirchweih-2/
LOCATION:Lauf a.d. Pegnitz\, Lauf a.d. Pegnitz\, 91207\, Germany
END:VEVENT
BEGIN:VEVENT
DTSTART;TZID=Europe/Berlin:20260719T140000
DTEND;TZID=Europe/Berlin:20260719T163000
DTSTAMP:20260421T173251
CREATED:20260311T204530Z
LAST-MODIFIED:20260311T204530Z
UID:502-1784469600-1784478600@musikverein-lauf.de
SUMMARY:Festzug Boxdorf
DESCRIPTION:
URL:https://musikverein-lauf.de/event/festzug-boxdorf/
LOCATION:Boxdorf\, Boxdorf\, Germany
END:VEVENT
BEGIN:VEVENT
DTSTART;TZID=Europe/Berlin:20260727T190000
DTEND;TZID=Europe/Berlin:20260727T203000
DTSTAMP:20260421T173251
CREATED:20260311T204632Z
LAST-MODIFIED:20260311T204632Z
UID:505-1785178800-1785184200@musikverein-lauf.de
SUMMARY:Picknick Open Air
DESCRIPTION:
URL:https://musikverein-lauf.de/event/picknick-open-air/
LOCATION:Grundschule Neunkirchen\, Schulstraße 22\, Neunkirchen am Sand\, 91233\, Germany
END:VEVENT
BEGIN:VEVENT
DTSTART;TZID=Europe/Berlin:20260809T120000
DTEND;TZID=Europe/Berlin:20260809T140000
DTSTAMP:20260421T173251
CREATED:20260311T204803Z
LAST-MODIFIED:20260311T204803Z
UID:507-1786276800-1786284000@musikverein-lauf.de
SUMMARY:Frühschoppen CSD
DESCRIPTION:
URL:https://musikverein-lauf.de/event/fruehschoppen-csd/
LOCATION:Kornmarkt Nürnberg\, Kornmarkt\, Nürnberg\, 90402\, Germany
END:VEVENT
BEGIN:VEVENT
DTSTART;TZID=Europe/Berlin:20261009T173000
DTEND;TZID=Europe/Berlin:20261011T123000
DTSTAMP:20260421T173251
CREATED:20260311T205026Z
LAST-MODIFIED:20260311T205026Z
UID:510-1791567000-1791721800@musikverein-lauf.de
SUMMARY:Probenwochenende
DESCRIPTION:
URL:https://musikverein-lauf.de/event/probenwochenende/
LOCATION:Schullandheim Pottenstein\, Finkenleite 1\, Pottenstein\, 91278\, Germany
END:VEVENT
END:VCALENDAR